BEGIN:VCALENDAR
VERSION:2.0
PRODID:-//Fresh Start Chiropractic and Wellness Center - ECPv6.15.20//NONSGML v1.0//EN
CALSCALE:GREGORIAN
METHOD:PUBLISH
X-ORIGINAL-URL:https://drfawnchiro.com
X-WR-CALDESC:Events for Fresh Start Chiropractic and Wellness Center
REFRESH-INTERVAL;VALUE=DURATION:PT1H
X-Robots-Tag:noindex
X-PUBLISHED-TTL:PT1H
BEGIN:VTIMEZONE
TZID:America/New_York
BEGIN:DAYLIGHT
TZOFFSETFROM:-0500
TZOFFSETTO:-0400
TZNAME:EDT
DTSTART:20230312T070000
END:DAYLIGHT
BEGIN:STANDARD
TZOFFSETFROM:-0400
TZOFFSETTO:-0500
TZNAME:EST
DTSTART:20231105T060000
END:STANDARD
BEGIN:DAYLIGHT
TZOFFSETFROM:-0500
TZOFFSETTO:-0400
TZNAME:EDT
DTSTART:20240310T070000
END:DAYLIGHT
BEGIN:STANDARD
TZOFFSETFROM:-0400
TZOFFSETTO:-0500
TZNAME:EST
DTSTART:20241103T060000
END:STANDARD
BEGIN:DAYLIGHT
TZOFFSETFROM:-0500
TZOFFSETTO:-0400
TZNAME:EDT
DTSTART:20250309T070000
END:DAYLIGHT
BEGIN:STANDARD
TZOFFSETFROM:-0400
TZOFFSETTO:-0500
TZNAME:EST
DTSTART:20251102T060000
END:STANDARD
END:VTIMEZONE
BEGIN:VEVENT
DTSTART;VALUE=DATE:20241208
DTEND;VALUE=DATE:20241209
DTSTAMP:20260424T150643
CREATED:20241107T162624Z
LAST-MODIFIED:20241113T030051Z
UID:4019-1733616000-1733702399@drfawnchiro.com
SUMMARY:Reiki - December 8\, 2024
DESCRIPTION:Join us on December 8\, 2024 for Reiki sessions with Reiki Master\, Joyce Bannon! Reiki is a Japanese healing technique that uses gentle touch to promote relaxation and well-being. \nWhat is Reiki?\nReiki is a non-invasive\, complementary therapy that uses gentle touch to balance the body’s energy fields. The word “reiki” comes from the Japanese words rei\, meaning universal\, and ki\, which refers to a flow of life force energy. Reiki was developed in Japan in the early 20th century by Mikao Usui. \nHow is it done?\nDuring a reiki session\, a practitioner places their hands on or near the client’s body to help guide energy through the body. The practitioner may hold their hands in place for about three minutes\, or until they feel the energy has stopped flowing. \nWhat are the benefits of Reiki?\nSome say reiki can help with relaxation\, stress reduction\, pain control\, and improved sleep quality. Research suggests that reiki may also help with emotional healing\, psychosomatic disorders\, and fibromyalgia. \nHow long is a session and how much does it cost?\nSessions are 60 minutes and cost $50 per session. Sessions are done in our Fresh Start Salt Therapy Room. If you’d like to maximize your health by having the salt on during your Reiki session\, $10 will be added to your invoice. \nSchedule an Appointment\nMake an appointment with Joyce by calling or texting 570-295-4456.
URL:https://drfawnchiro.com/event/reiki-december-1-2024/
LOCATION:Fresh Start Chiropractic and Wellness Center\, 565 McElhattan Drive\, Lock Haven\, PA\, 17745
ATTACH;FMTTYPE=image/png:https://drfawnchiro.com/wp-content/uploads/2024/11/Reiki_Fresh-Start-Chiropractic-and-Wellness-Center.png
END:VEVENT
END:VCALENDAR