BEGIN:VCALENDAR
VERSION:2.0
PRODID:-//Fresh Start Chiropractic and Wellness Center - ECPv6.15.20//NONSGML v1.0//EN
CALSCALE:GREGORIAN
METHOD:PUBLISH
X-WR-CALNAME:Fresh Start Chiropractic and Wellness Center
X-ORIGINAL-URL:https://drfawnchiro.com
X-WR-CALDESC:Events for Fresh Start Chiropractic and Wellness Center
REFRESH-INTERVAL;VALUE=DURATION:PT1H
X-Robots-Tag:noindex
X-PUBLISHED-TTL:PT1H
BEGIN:VTIMEZONE
TZID:America/New_York
BEGIN:DAYLIGHT
TZOFFSETFROM:-0500
TZOFFSETTO:-0400
TZNAME:EDT
DTSTART:20230312T070000
END:DAYLIGHT
BEGIN:STANDARD
TZOFFSETFROM:-0400
TZOFFSETTO:-0500
TZNAME:EST
DTSTART:20231105T060000
END:STANDARD
BEGIN:DAYLIGHT
TZOFFSETFROM:-0500
TZOFFSETTO:-0400
TZNAME:EDT
DTSTART:20240310T070000
END:DAYLIGHT
BEGIN:STANDARD
TZOFFSETFROM:-0400
TZOFFSETTO:-0500
TZNAME:EST
DTSTART:20241103T060000
END:STANDARD
BEGIN:DAYLIGHT
TZOFFSETFROM:-0500
TZOFFSETTO:-0400
TZNAME:EDT
DTSTART:20250309T070000
END:DAYLIGHT
BEGIN:STANDARD
TZOFFSETFROM:-0400
TZOFFSETTO:-0500
TZNAME:EST
DTSTART:20251102T060000
END:STANDARD
END:VTIMEZONE
BEGIN:VEVENT
DTSTART;VALUE=DATE:20241208
DTEND;VALUE=DATE:20241209
DTSTAMP:20260423T134810
CREATED:20241107T162624Z
LAST-MODIFIED:20241113T030051Z
UID:4019-1733616000-1733702399@drfawnchiro.com
SUMMARY:Reiki - December 8\, 2024
DESCRIPTION:Join us on December 8\, 2024 for Reiki sessions with Reiki Master\, Joyce Bannon! Reiki is a Japanese healing technique that uses gentle touch to promote relaxation and well-being. \nWhat is Reiki?\nReiki is a non-invasive\, complementary therapy that uses gentle touch to balance the body’s energy fields. The word “reiki” comes from the Japanese words rei\, meaning universal\, and ki\, which refers to a flow of life force energy. Reiki was developed in Japan in the early 20th century by Mikao Usui. \nHow is it done?\nDuring a reiki session\, a practitioner places their hands on or near the client’s body to help guide energy through the body. The practitioner may hold their hands in place for about three minutes\, or until they feel the energy has stopped flowing. \nWhat are the benefits of Reiki?\nSome say reiki can help with relaxation\, stress reduction\, pain control\, and improved sleep quality. Research suggests that reiki may also help with emotional healing\, psychosomatic disorders\, and fibromyalgia. \nHow long is a session and how much does it cost?\nSessions are 60 minutes and cost $50 per session. Sessions are done in our Fresh Start Salt Therapy Room. If you’d like to maximize your health by having the salt on during your Reiki session\, $10 will be added to your invoice. \nSchedule an Appointment\nMake an appointment with Joyce by calling or texting 570-295-4456.
URL:https://drfawnchiro.com/event/reiki-december-1-2024/
LOCATION:Fresh Start Chiropractic and Wellness Center\, 565 McElhattan Drive\, Lock Haven\, PA\, 17745
ATTACH;FMTTYPE=image/png:https://drfawnchiro.com/wp-content/uploads/2024/11/Reiki_Fresh-Start-Chiropractic-and-Wellness-Center.png
END:VEVENT
BEGIN:VEVENT
DTSTART;VALUE=DATE:20241203
DTEND;VALUE=DATE:20241204
DTSTAMP:20260423T134810
CREATED:20240826T132024Z
LAST-MODIFIED:20240826T132024Z
UID:3166-1733184000-1733270399@drfawnchiro.com
SUMMARY:Wholistic Thermography - December 3\, 2024
DESCRIPTION:Join us on December 3\, 2024 for our Wholistic Thermography appointments with Sherry Cummings Strayer\, CCT II\, BSN\, FFCI\, CNHP! \nWhat is Wholistic Thermography?\nDigital Infrared Thermal Imaging is an assessment that detects subtle physiologic changes in the body\, acute or chronic\, related to illness or disease\, physical injury\, infection\, vascular problems\, inflammation or other dysfunctions. \nIt aids diagnosis\, prognosis\, and therapy progress for many things: \n\nCardiac/Stroke Screening\nBack Injuries\nArthritis/Joint inflammation\nHeadaches/Migraines\nNerve Damage\nBreast Disease\nFibromyalgia\nOral Health and TMJ\nDigestion Issues\nSprains and Stains\nCirculation/Deep Vein Concerns\n\nIt’s a tool for very early breast cancer detection and monitors abnormal breast physiology. Great option for women with dense breast tissue\, implants\, or mastectomy. \nAppointments are quick\, easy\, 100% safe\, no radiation\, no paid\, non-invasive\, minimal physical contact\, scans taken by female thermographer\, interpreted by Licensed MD\, Thermologist\, FDA Registered medical equipment. \nAppointments\nAppointments are 30-60 minutes depending on the region(s) of your body being scanned. Schedule an appointment with Sherry by calling or texting 814-883-0006. You may also email Sherry at essenceofpureliving@gmail.com and visit their website.
URL:https://drfawnchiro.com/event/wholistic-thermography-december-3-2024/
LOCATION:Fresh Start Chiropractic and Wellness Center\, 565 McElhattan Drive\, Lock Haven\, PA\, 17745
ATTACH;FMTTYPE=image/jpeg:https://drfawnchiro.com/wp-content/uploads/2024/08/Wholistic-Thermography_Fresh-Start-Chiropractic-and-Wellness-Center.jpg
END:VEVENT
BEGIN:VEVENT
DTSTART;TZID=America/New_York:20241117T140000
DTEND;TZID=America/New_York:20241117T153000
DTSTAMP:20260423T134810
CREATED:20241014T040012Z
LAST-MODIFIED:20241021T133020Z
UID:3775-1731852000-1731857400@drfawnchiro.com
SUMMARY:Sourdough Gut Health Workshop - November 17\, 2024
DESCRIPTION:Join us on November 17\, 2024 from 2:00 – 3:30 p.m. for our Sourdough Gut Health Workshop! \nWhat’s this Sourdough craze all about? Join Dr Fawn Shaffer and her team for a fun Sunday afternoon and we’ll show you! \nBring a large mixing bowl\, your favorite mixing spoon or spatula\, and an apron (if you’re worried about getting messy). We’ll supply the rest! You’ll leave with your own sourdough starter\, a sourdough loaf that you have started and can finish baking at home\, and the directions to keep your starter alive and healthy at home. \nLocation\nWoolrich Community Center\n81 Ballfield Lane\nLock Haven\, PA 17745 \nHow to Register\nCost is $20/person with proceeds going to Sleep in Heavenly Peace. Space is limited and classes fill quickly\, so please RSVP to reserve your spot. You MUST pre-register by contacting Sally Young  at (570) 295-7213. Venmo\, PayPal\, cash\, or check accepted.
URL:https://drfawnchiro.com/event/sourdough-gut-health-workshop-november-17-2024/
LOCATION:Woolrich Community Center\, 1080 Park Avenue\, Woolrich\, PA\, 17779
ATTACH;FMTTYPE=image/jpeg:https://drfawnchiro.com/wp-content/uploads/2024/10/Sourdough-Workshop-November-2024_Fresh-Start-Chiropractic-and-Wellness-Center.jpg
END:VEVENT
BEGIN:VEVENT
DTSTART;TZID=America/New_York:20241013T140000
DTEND;TZID=America/New_York:20241013T153000
DTSTAMP:20260423T134810
CREATED:20240928T194302Z
LAST-MODIFIED:20240928T194302Z
UID:3695-1728828000-1728833400@drfawnchiro.com
SUMMARY:Sourdough Gut Health Workshop - October 13\, 2024
DESCRIPTION:Join us on October 13\, 2024 from 2:00 – 3:30 p.m. for our Sourdough Gut Health Workshop! \nWhat’s this Sourdough craze all about? Join Dr Fawn Shaffer and her team for a fun Sunday afternoon and we’ll show you! \nBring a large mixing bowl\, your favorite mixing spoon or spatula\, and an apron (if you’re worried about getting messy). We’ll supply the rest! You’ll leave with your own sourdough starter\, a sourdough loaf that you have started and can finish baking at home\, and the directions to keep your starter alive and healthy at home. \nLocation\nWoolrich Community Center\n81 Ballfield Lane\nLock Haven\, PA 17745 \nHow to Register\nCost is $20/person with proceeds going to Boxes of Hope. Space is limited and classes fill quickly\, so please RSVP to reserve your spot. You MUST pre-register by contacting Sally Young  at (570) 295-7213. Venmo\, PayPal\, cash\, or check accepted.
URL:https://drfawnchiro.com/event/sourdough-gut-health-workshop-october-13-2024/
LOCATION:Woolrich Community Center\, 1080 Park Avenue\, Woolrich\, PA\, 17779
ATTACH;FMTTYPE=image/jpeg:https://drfawnchiro.com/wp-content/uploads/2024/09/Sourdough-Workshop-October-2024_Fresh-Start-Chiropractic-and-Wellness-Center.jpg
END:VEVENT
BEGIN:VEVENT
DTSTART;VALUE=DATE:20240903
DTEND;VALUE=DATE:20240904
DTSTAMP:20260423T134810
CREATED:20240826T123532Z
LAST-MODIFIED:20240826T131758Z
UID:3142-1725321600-1725407999@drfawnchiro.com
SUMMARY:Wholistic Thermography - September 3\, 2024
DESCRIPTION:Join us on September 3\, 2024 for our Wholistic Thermography appointments with Sherry Cummings Strayer\, CCT II\, BSN\, FFCI\, CNHP! \nWhat is Wholistic Thermography?\nDigital Infrared Thermal Imaging is an assessment that detects subtle physiologic changes in the body\, acute or chronic\, related to illness or disease\, physical injury\, infection\, vascular problems\, inflammation or other dysfunctions. \nIt aids diagnosis\, prognosis\, and therapy progress for many things: \n\nCardiac/Stroke Screening\nBack Injuries\nArthritis/Joint inflammation\nHeadaches/Migraines\nNerve Damage\nBreast Disease\nFibromyalgia\nOral Health and TMJ\nDigestion Issues\nSprains and Stains\nCirculation/Deep Vein Concerns\n\nIt’s a tool for very early breast cancer detection and monitors abnormal breast physiology. Great option for women with dense breast tissue\, implants\, or mastectomy. \nAppointments are quick\, easy\, 100% safe\, no radiation\, no paid\, non-invasive\, minimal physical contact\, scans taken by female thermographer\, interpreted by Licensed MD\, Thermologist\, FDA Registered medical equipment. \nAppointments\nAppointments are 30-60 minutes depending on the region(s) of your body being scanned. Schedule an appointment with Sherry by calling or texting 814-883-0006. You may also email Sherry at essenceofpureliving@gmail.com and visit their website.
URL:https://drfawnchiro.com/event/wholistic-thermography-september-3-2024/
LOCATION:Fresh Start Chiropractic and Wellness Center\, 565 McElhattan Drive\, Lock Haven\, PA\, 17745
ATTACH;FMTTYPE=image/jpeg:https://drfawnchiro.com/wp-content/uploads/2024/08/Wholistic-Thermography_Fresh-Start-Chiropractic-and-Wellness-Center.jpg
END:VEVENT
BEGIN:VEVENT
DTSTART;TZID=America/New_York:20240609T140000
DTEND;TZID=America/New_York:20240609T153000
DTSTAMP:20260423T134810
CREATED:20240515T144857Z
LAST-MODIFIED:20240515T144857Z
UID:3075-1717941600-1717947000@drfawnchiro.com
SUMMARY:Sourdough Gut Health Workshop - June 9\, 2024
DESCRIPTION:Join us on June 9\, 2024 at 2:00 p.m. for our Sourdough Gut Health Workshop! \nWhat’s this Sourdough craze all about? Join Dr Fawn Shaffer and her team for a fun Sunday afternoon and we’ll show you! \nBring a large mixing bowl\, your favorite mixing spoon or spatula\, and an apron (if you’re worried about getting messy). We’ll supply the rest! You’ll leave with your own sourdough starter\, a sourdough loaf that you have started\, and the directions to finish your own loaf and keep your starter alive and healthy at home. You’ll also learn lots of good information about sourdough and improving your gut health with incorporating healthy eating with our Juice Plus products. \nHow to Register\nCost is $20/person with proceeds going to The Maddie Potts Foundation. Space is limited\, so please RSVP. You MUST pre-register by contacting Sally Young  at (570) 295-7213. Venmo\, PayPal\, cash or check accepted.
URL:https://drfawnchiro.com/event/sourdough-gut-health-workshop-june-9-2024/
LOCATION:Woolrich Community Center\, 1080 Park Avenue\, Woolrich\, PA\, 17779
ATTACH;FMTTYPE=image/jpeg:https://drfawnchiro.com/wp-content/uploads/2024/05/Sourdough-Event-Photo-June-9-2024.jpg
END:VEVENT
END:VCALENDAR