BEGIN:VCALENDAR
VERSION:2.0
PRODID:-//Fresh Start Chiropractic and Wellness Center - ECPv6.15.20//NONSGML v1.0//EN
CALSCALE:GREGORIAN
METHOD:PUBLISH
X-ORIGINAL-URL:https://drfawnchiro.com
X-WR-CALDESC:Events for Fresh Start Chiropractic and Wellness Center
REFRESH-INTERVAL;VALUE=DURATION:PT1H
X-Robots-Tag:noindex
X-PUBLISHED-TTL:PT1H
BEGIN:VTIMEZONE
TZID:America/New_York
BEGIN:DAYLIGHT
TZOFFSETFROM:-0500
TZOFFSETTO:-0400
TZNAME:EDT
DTSTART:20230312T070000
END:DAYLIGHT
BEGIN:STANDARD
TZOFFSETFROM:-0400
TZOFFSETTO:-0500
TZNAME:EST
DTSTART:20231105T060000
END:STANDARD
BEGIN:DAYLIGHT
TZOFFSETFROM:-0500
TZOFFSETTO:-0400
TZNAME:EDT
DTSTART:20240310T070000
END:DAYLIGHT
BEGIN:STANDARD
TZOFFSETFROM:-0400
TZOFFSETTO:-0500
TZNAME:EST
DTSTART:20241103T060000
END:STANDARD
BEGIN:DAYLIGHT
TZOFFSETFROM:-0500
TZOFFSETTO:-0400
TZNAME:EDT
DTSTART:20250309T070000
END:DAYLIGHT
BEGIN:STANDARD
TZOFFSETFROM:-0400
TZOFFSETTO:-0500
TZNAME:EST
DTSTART:20251102T060000
END:STANDARD
END:VTIMEZONE
BEGIN:VEVENT
DTSTART;VALUE=DATE:20240903
DTEND;VALUE=DATE:20240904
DTSTAMP:20260424T175048
CREATED:20240826T123532Z
LAST-MODIFIED:20240826T131758Z
UID:3142-1725321600-1725407999@drfawnchiro.com
SUMMARY:Wholistic Thermography - September 3\, 2024
DESCRIPTION:Join us on September 3\, 2024 for our Wholistic Thermography appointments with Sherry Cummings Strayer\, CCT II\, BSN\, FFCI\, CNHP! \nWhat is Wholistic Thermography?\nDigital Infrared Thermal Imaging is an assessment that detects subtle physiologic changes in the body\, acute or chronic\, related to illness or disease\, physical injury\, infection\, vascular problems\, inflammation or other dysfunctions. \nIt aids diagnosis\, prognosis\, and therapy progress for many things: \n\nCardiac/Stroke Screening\nBack Injuries\nArthritis/Joint inflammation\nHeadaches/Migraines\nNerve Damage\nBreast Disease\nFibromyalgia\nOral Health and TMJ\nDigestion Issues\nSprains and Stains\nCirculation/Deep Vein Concerns\n\nIt’s a tool for very early breast cancer detection and monitors abnormal breast physiology. Great option for women with dense breast tissue\, implants\, or mastectomy. \nAppointments are quick\, easy\, 100% safe\, no radiation\, no paid\, non-invasive\, minimal physical contact\, scans taken by female thermographer\, interpreted by Licensed MD\, Thermologist\, FDA Registered medical equipment. \nAppointments\nAppointments are 30-60 minutes depending on the region(s) of your body being scanned. Schedule an appointment with Sherry by calling or texting 814-883-0006. You may also email Sherry at essenceofpureliving@gmail.com and visit their website.
URL:https://drfawnchiro.com/event/wholistic-thermography-september-3-2024/
LOCATION:Fresh Start Chiropractic and Wellness Center\, 565 McElhattan Drive\, Lock Haven\, PA\, 17745
ATTACH;FMTTYPE=image/jpeg:https://drfawnchiro.com/wp-content/uploads/2024/08/Wholistic-Thermography_Fresh-Start-Chiropractic-and-Wellness-Center.jpg
END:VEVENT
END:VCALENDAR